BEGIN:VCALENDAR
VERSION:2.0
PRODID:spatie/icalendar-generator
BEGIN:VTIMEZONE
TZID:UTC
BEGIN:STANDARD
DTSTART:20250726T185349
TZOFFSETFROM:+0000
TZOFFSETTO:+0000
END:STANDARD
END:VTIMEZONE
BEGIN:VEVENT
UID:69e9193dc9c0c
DTSTAMP:20260422T185349Z
SUMMARY:Alexander Tillegreen - Stücke für Werke
DTSTART:20260610T080000Z
DTEND:20260610T080000Z
END:VEVENT
END:VCALENDAR