BEGIN:VCALENDAR
VERSION:2.0
PRODID:spatie/icalendar-generator
BEGIN:VTIMEZONE
TZID:UTC
BEGIN:STANDARD
DTSTART:20250724T125309
TZOFFSETFROM:+0000
TZOFFSETTO:+0000
END:STANDARD
END:VTIMEZONE
BEGIN:VEVENT
UID:69e621b5d1f7a
DTSTAMP:20260420T125309Z
SUMMARY:Alexander Tillegreen - Stücke für Werke
DTSTART:20260607T080000Z
DTEND:20260607T080000Z
END:VEVENT
END:VCALENDAR