BEGIN:VCALENDAR
VERSION:2.0
PRODID:spatie/icalendar-generator
BEGIN:VTIMEZONE
TZID:UTC
BEGIN:STANDARD
DTSTART:20250726T142710
TZOFFSETFROM:+0000
TZOFFSETTO:+0000
END:STANDARD
END:VTIMEZONE
BEGIN:VEVENT
UID:69e8dabed7e5a
DTSTAMP:20260422T142710Z
SUMMARY:Alexander Tillegreen - Stücke für Werke
DTSTART:20260605T080000Z
DTEND:20260605T080000Z
END:VEVENT
END:VCALENDAR