BEGIN:VCALENDAR
VERSION:2.0
PRODID:spatie/icalendar-generator
BEGIN:VTIMEZONE
TZID:UTC
BEGIN:STANDARD
DTSTART:20250726T042537
TZOFFSETFROM:+0000
TZOFFSETTO:+0000
END:STANDARD
END:VTIMEZONE
BEGIN:VEVENT
UID:69e84dc196c0a
DTSTAMP:20260422T042537Z
SUMMARY:Alexander Tillegreen - Stücke für Werke
DTSTART:20260526T080000Z
DTEND:20260526T080000Z
END:VEVENT
END:VCALENDAR