BEGIN:VCALENDAR
VERSION:2.0
PRODID:spatie/icalendar-generator
BEGIN:VTIMEZONE
TZID:UTC
BEGIN:STANDARD
DTSTART:20250725T142644
TZOFFSETFROM:+0000
TZOFFSETTO:+0000
END:STANDARD
END:VTIMEZONE
BEGIN:VEVENT
UID:69e78924971f8
DTSTAMP:20260421T142644Z
SUMMARY:Alexander Tillegreen - Stücke für Werke
DTSTART:20260515T080000Z
DTEND:20260515T080000Z
END:VEVENT
END:VCALENDAR