BEGIN:VCALENDAR
VERSION:2.0
PRODID:spatie/icalendar-generator
BEGIN:VTIMEZONE
TZID:UTC
BEGIN:STANDARD
DTSTART:20250725T130156
TZOFFSETFROM:+0000
TZOFFSETTO:+0000
END:STANDARD
END:VTIMEZONE
BEGIN:VEVENT
UID:69e775447b1f6
DTSTAMP:20260421T130156Z
SUMMARY:Alexander Tillegreen - Stücke für Werke
DTSTART:20260514T080000Z
DTEND:20260514T080000Z
END:VEVENT
END:VCALENDAR