BEGIN:VCALENDAR
VERSION:2.0
PRODID:spatie/icalendar-generator
BEGIN:VTIMEZONE
TZID:UTC
BEGIN:STANDARD
DTSTART:20250724T140559
TZOFFSETFROM:+0000
TZOFFSETTO:+0000
END:STANDARD
END:VTIMEZONE
BEGIN:VEVENT
UID:69e632c7062ec
DTSTAMP:20260420T140559Z
SUMMARY:Alexander Tillegreen - Stücke für Werke
DTSTART:20260423T080000Z
DTEND:20260423T080000Z
END:VEVENT
END:VCALENDAR