BEGIN:VCALENDAR
VERSION:2.0
PRODID:spatie/icalendar-generator
BEGIN:VTIMEZONE
TZID:UTC
BEGIN:STANDARD
DTSTART:20250728T223715
TZOFFSETFROM:+0000
TZOFFSETTO:+0000
END:STANDARD
END:VTIMEZONE
BEGIN:VEVENT
UID:69ebf09b5de7d
DTSTAMP:20260424T223715Z
SUMMARY:STUDIO: Camie Klein
DTSTART:20260814T080000Z
DTEND:20260814T080000Z
END:VEVENT
END:VCALENDAR