BEGIN:VCALENDAR
VERSION:2.0
PRODID:spatie/icalendar-generator
BEGIN:VTIMEZONE
TZID:UTC
BEGIN:STANDARD
DTSTART:20250728T205318
TZOFFSETFROM:+0000
TZOFFSETTO:+0000
END:STANDARD
END:VTIMEZONE
BEGIN:VEVENT
UID:69ebd83e0d192
DTSTAMP:20260424T205318Z
SUMMARY:STUDIO: Camie Klein
DTSTART:20260812T080000Z
DTEND:20260812T080000Z
END:VEVENT
END:VCALENDAR