BEGIN:VCALENDAR
VERSION:2.0
PRODID:spatie/icalendar-generator
BEGIN:VTIMEZONE
TZID:UTC
BEGIN:STANDARD
DTSTART:20250728T191111
TZOFFSETFROM:+0000
TZOFFSETTO:+0000
END:STANDARD
END:VTIMEZONE
BEGIN:VEVENT
UID:69ebc04f3a7c9
DTSTAMP:20260424T191111Z
SUMMARY:STUDIO: Camie Klein
DTSTART:20260811T080000Z
DTEND:20260811T080000Z
END:VEVENT
END:VCALENDAR