BEGIN:VCALENDAR
VERSION:2.0
PRODID:spatie/icalendar-generator
BEGIN:VTIMEZONE
TZID:UTC
BEGIN:STANDARD
DTSTART:20250728T172949
TZOFFSETFROM:+0000
TZOFFSETTO:+0000
END:STANDARD
END:VTIMEZONE
BEGIN:VEVENT
UID:69eba88db028c
DTSTAMP:20260424T172949Z
SUMMARY:STUDIO: Camie Klein
DTSTART:20260808T080000Z
DTEND:20260808T080000Z
END:VEVENT
END:VCALENDAR