BEGIN:VCALENDAR
VERSION:2.0
PRODID:spatie/icalendar-generator
BEGIN:VTIMEZONE
TZID:UTC
BEGIN:STANDARD
DTSTART:20250728T035218
TZOFFSETFROM:+0000
TZOFFSETTO:+0000
END:STANDARD
END:VTIMEZONE
BEGIN:VEVENT
UID:69eae8f2c9d53
DTSTAMP:20260424T035218Z
SUMMARY:STUDIO: Camie Klein
DTSTART:20260728T080000Z
DTEND:20260728T080000Z
END:VEVENT
END:VCALENDAR