BEGIN:VCALENDAR
VERSION:2.0
PRODID:spatie/icalendar-generator
BEGIN:VTIMEZONE
TZID:UTC
BEGIN:STANDARD
DTSTART:20250728T021022
TZOFFSETFROM:+0000
TZOFFSETTO:+0000
END:STANDARD
END:VTIMEZONE
BEGIN:VEVENT
UID:69ead10e10b25
DTSTAMP:20260424T021022Z
SUMMARY:STUDIO: Camie Klein
DTSTART:20260724T080000Z
DTEND:20260724T080000Z
END:VEVENT
END:VCALENDAR