BEGIN:VCALENDAR
VERSION:2.0
PRODID:spatie/icalendar-generator
BEGIN:VTIMEZONE
TZID:UTC
BEGIN:STANDARD
DTSTART:20250728T004111
TZOFFSETFROM:+0000
TZOFFSETTO:+0000
END:STANDARD
END:VTIMEZONE
BEGIN:VEVENT
UID:69eabc27c944e
DTSTAMP:20260424T004111Z
SUMMARY:STUDIO: Camie Klein
DTSTART:20260721T080000Z
DTEND:20260721T080000Z
END:VEVENT
END:VCALENDAR