BEGIN:VCALENDAR
VERSION:2.0
PRODID:spatie/icalendar-generator
BEGIN:VTIMEZONE
TZID:UTC
BEGIN:STANDARD
DTSTART:20250728T003520
TZOFFSETFROM:+0000
TZOFFSETTO:+0000
END:STANDARD
END:VTIMEZONE
BEGIN:VEVENT
UID:69eabac87eb46
DTSTAMP:20260424T003520Z
SUMMARY:STUDIO: Camie Klein
DTSTART:20260719T080000Z
DTEND:20260719T080000Z
END:VEVENT
END:VCALENDAR