BEGIN:VCALENDAR
VERSION:2.0
PRODID:spatie/icalendar-generator
BEGIN:VTIMEZONE
TZID:UTC
BEGIN:STANDARD
DTSTART:20250727T230310
TZOFFSETFROM:+0000
TZOFFSETTO:+0000
END:STANDARD
END:VTIMEZONE
BEGIN:VEVENT
UID:69eaa52e2d19b
DTSTAMP:20260423T230310Z
SUMMARY:STUDIO: Camie Klein
DTSTART:20260718T080000Z
DTEND:20260718T080000Z
END:VEVENT
END:VCALENDAR