BEGIN:VCALENDAR
VERSION:2.0
PRODID:spatie/icalendar-generator
BEGIN:VTIMEZONE
TZID:UTC
BEGIN:STANDARD
DTSTART:20250727T212826
TZOFFSETFROM:+0000
TZOFFSETTO:+0000
END:STANDARD
END:VTIMEZONE
BEGIN:VEVENT
UID:69ea8efa503e9
DTSTAMP:20260423T212826Z
SUMMARY:STUDIO: Camie Klein
DTSTART:20260715T080000Z
DTEND:20260715T080000Z
END:VEVENT
END:VCALENDAR