BEGIN:VCALENDAR
VERSION:2.0
PRODID:spatie/icalendar-generator
BEGIN:VTIMEZONE
TZID:UTC
BEGIN:STANDARD
DTSTART:20250727T151929
TZOFFSETFROM:+0000
TZOFFSETTO:+0000
END:STANDARD
END:VTIMEZONE
BEGIN:VEVENT
UID:69ea38810a556
DTSTAMP:20260423T151929Z
SUMMARY:STUDIO: Camie Klein
DTSTART:20260705T080000Z
DTEND:20260705T080000Z
END:VEVENT
END:VCALENDAR