BEGIN:VCALENDAR
VERSION:2.0
PRODID:spatie/icalendar-generator
BEGIN:VTIMEZONE
TZID:UTC
BEGIN:STANDARD
DTSTART:20250727T121621
TZOFFSETFROM:+0000
TZOFFSETTO:+0000
END:STANDARD
END:VTIMEZONE
BEGIN:VEVENT
UID:69ea0d955d2d5
DTSTAMP:20260423T121621Z
SUMMARY:STUDIO: Camie Klein
DTSTART:20260702T080000Z
DTEND:20260702T080000Z
END:VEVENT
END:VCALENDAR