BEGIN:VCALENDAR
VERSION:2.0
PRODID:spatie/icalendar-generator
BEGIN:VTIMEZONE
TZID:UTC
BEGIN:STANDARD
DTSTART:20250727T090548
TZOFFSETFROM:+0000
TZOFFSETTO:+0000
END:STANDARD
END:VTIMEZONE
BEGIN:VEVENT
UID:69e9e0ec89ad8
DTSTAMP:20260423T090548Z
SUMMARY:STUDIO: Camie Klein
DTSTART:20260628T080000Z
DTEND:20260628T080000Z
END:VEVENT
END:VCALENDAR