BEGIN:VCALENDAR
VERSION:2.0
PRODID:spatie/icalendar-generator
BEGIN:VTIMEZONE
TZID:UTC
BEGIN:STANDARD
DTSTART:20250727T090507
TZOFFSETFROM:+0000
TZOFFSETTO:+0000
END:STANDARD
END:VTIMEZONE
BEGIN:VEVENT
UID:69e9e0c33f8bb
DTSTAMP:20260423T090507Z
SUMMARY:STUDIO: Camie Klein
DTSTART:20260627T080000Z
DTEND:20260627T080000Z
END:VEVENT
END:VCALENDAR