BEGIN:VCALENDAR
VERSION:2.0
PRODID:spatie/icalendar-generator
BEGIN:VTIMEZONE
TZID:UTC
BEGIN:STANDARD
DTSTART:20250727T055641
TZOFFSETFROM:+0000
TZOFFSETTO:+0000
END:STANDARD
END:VTIMEZONE
BEGIN:VEVENT
UID:69e9b499edcb6
DTSTAMP:20260423T055641Z
SUMMARY:STUDIO: Camie Klein
DTSTART:20260624T080000Z
DTEND:20260624T080000Z
END:VEVENT
END:VCALENDAR