BEGIN:VCALENDAR
VERSION:2.0
PRODID:spatie/icalendar-generator
BEGIN:VTIMEZONE
TZID:UTC
BEGIN:STANDARD
DTSTART:20250727T011948
TZOFFSETFROM:+0000
TZOFFSETTO:+0000
END:STANDARD
END:VTIMEZONE
BEGIN:VEVENT
UID:69e973b491e5d
DTSTAMP:20260423T011948Z
SUMMARY:STUDIO: Camie Klein
DTSTART:20260617T080000Z
DTEND:20260617T080000Z
END:VEVENT
END:VCALENDAR