BEGIN:VCALENDAR
VERSION:2.0
PRODID:spatie/icalendar-generator
BEGIN:VTIMEZONE
TZID:UTC
BEGIN:STANDARD
DTSTART:20250726T235132
TZOFFSETFROM:+0000
TZOFFSETTO:+0000
END:STANDARD
END:VTIMEZONE
BEGIN:VEVENT
UID:69e95f04828a4
DTSTAMP:20260422T235132Z
SUMMARY:STUDIO: Camie Klein
DTSTART:20260614T080000Z
DTEND:20260614T080000Z
END:VEVENT
END:VCALENDAR