BEGIN:VCALENDAR
VERSION:2.0
PRODID:spatie/icalendar-generator
BEGIN:VTIMEZONE
TZID:UTC
BEGIN:STANDARD
DTSTART:20250726T221338
TZOFFSETFROM:+0000
TZOFFSETTO:+0000
END:STANDARD
END:VTIMEZONE
BEGIN:VEVENT
UID:69e94812c8592
DTSTAMP:20260422T221338Z
SUMMARY:STUDIO: Camie Klein
DTSTART:20260613T080000Z
DTEND:20260613T080000Z
END:VEVENT
END:VCALENDAR