BEGIN:VCALENDAR
VERSION:2.0
PRODID:spatie/icalendar-generator
BEGIN:VTIMEZONE
TZID:UTC
BEGIN:STANDARD
DTSTART:20250728T083745
TZOFFSETFROM:+0000
TZOFFSETTO:+0000
END:STANDARD
END:VTIMEZONE
BEGIN:VEVENT
UID:69eb2bd9c41cc
DTSTAMP:20260424T083745Z
SUMMARY:STUDIO: Camie Klein
DTSTART:20260612T080000Z
DTEND:20260612T080000Z
END:VEVENT
END:VCALENDAR