BEGIN:VCALENDAR
VERSION:2.0
PRODID:spatie/icalendar-generator
BEGIN:VTIMEZONE
TZID:UTC
BEGIN:STANDARD
DTSTART:20250726T185355
TZOFFSETFROM:+0000
TZOFFSETTO:+0000
END:STANDARD
END:VTIMEZONE
BEGIN:VEVENT
UID:69e919432fc9f
DTSTAMP:20260422T185355Z
SUMMARY:STUDIO: Camie Klein
DTSTART:20260609T080000Z
DTEND:20260609T080000Z
END:VEVENT
END:VCALENDAR