BEGIN:VCALENDAR
VERSION:2.0
PRODID:spatie/icalendar-generator
BEGIN:VTIMEZONE
TZID:UTC
BEGIN:STANDARD
DTSTART:20250726T155935
TZOFFSETFROM:+0000
TZOFFSETTO:+0000
END:STANDARD
END:VTIMEZONE
BEGIN:VEVENT
UID:69e8f067400f1
DTSTAMP:20260422T155935Z
SUMMARY:STUDIO: Camie Klein
DTSTART:20260606T080000Z
DTEND:20260606T080000Z
END:VEVENT
END:VCALENDAR