BEGIN:VCALENDAR
VERSION:2.0
PRODID:spatie/icalendar-generator
BEGIN:VTIMEZONE
TZID:UTC
BEGIN:STANDARD
DTSTART:20250723T202731
TZOFFSETFROM:+0000
TZOFFSETTO:+0000
END:STANDARD
END:VTIMEZONE
BEGIN:VEVENT
UID:69e53ab3dda7e
DTSTAMP:20260419T202731Z
SUMMARY:Schamanen Sibiriens - Zwischen den Welten
DTSTART:20261229T090000Z
DTEND:20261229T090000Z
END:VEVENT
END:VCALENDAR