BEGIN:VCALENDAR
VERSION:2.0
PRODID:spatie/icalendar-generator
BEGIN:VTIMEZONE
TZID:UTC
BEGIN:STANDARD
DTSTART:20250725T080516
TZOFFSETFROM:+0000
TZOFFSETTO:+0000
END:STANDARD
END:VTIMEZONE
BEGIN:VEVENT
UID:69e72fbcea5c2
DTSTAMP:20260421T080516Z
SUMMARY:Schamanen Sibiriens - Zwischen den Welten
DTSTART:20261226T090000Z
DTEND:20261226T090000Z
END:VEVENT
END:VCALENDAR