BEGIN:VCALENDAR
VERSION:2.0
PRODID:spatie/icalendar-generator
BEGIN:VTIMEZONE
TZID:UTC
BEGIN:STANDARD
DTSTART:20250725T110804
TZOFFSETFROM:+0000
TZOFFSETTO:+0000
END:STANDARD
END:VTIMEZONE
BEGIN:VEVENT
UID:69e75a9454dd5
DTSTAMP:20260421T110804Z
SUMMARY:Schamanen Sibiriens - Zwischen den Welten
DTSTART:20261218T090000Z
DTEND:20261218T090000Z
END:VEVENT
END:VCALENDAR