BEGIN:VCALENDAR
VERSION:2.0
PRODID:spatie/icalendar-generator
BEGIN:VTIMEZONE
TZID:UTC
BEGIN:STANDARD
DTSTART:20250725T111909
TZOFFSETFROM:+0000
TZOFFSETTO:+0000
END:STANDARD
END:VTIMEZONE
BEGIN:VEVENT
UID:69e75d2da0092
DTSTAMP:20260421T111909Z
SUMMARY:Schamanen Sibiriens - Zwischen den Welten
DTSTART:20261217T090000Z
DTEND:20261217T090000Z
END:VEVENT
END:VCALENDAR