BEGIN:VCALENDAR
VERSION:2.0
PRODID:spatie/icalendar-generator
BEGIN:VTIMEZONE
TZID:UTC
BEGIN:STANDARD
DTSTART:20250725T140436
TZOFFSETFROM:+0000
TZOFFSETTO:+0000
END:STANDARD
END:VTIMEZONE
BEGIN:VEVENT
UID:69e783f418a0d
DTSTAMP:20260421T140436Z
SUMMARY:Schamanen Sibiriens - Zwischen den Welten
DTSTART:20261212T090000Z
DTEND:20261212T090000Z
END:VEVENT
END:VCALENDAR