BEGIN:VCALENDAR
VERSION:2.0
PRODID:spatie/icalendar-generator
BEGIN:VTIMEZONE
TZID:UTC
BEGIN:STANDARD
DTSTART:20250725T142638
TZOFFSETFROM:+0000
TZOFFSETTO:+0000
END:STANDARD
END:VTIMEZONE
BEGIN:VEVENT
UID:69e7891e64dcc
DTSTAMP:20260421T142638Z
SUMMARY:Schamanen Sibiriens - Zwischen den Welten
DTSTART:20261211T090000Z
DTEND:20261211T090000Z
END:VEVENT
END:VCALENDAR