BEGIN:VCALENDAR
VERSION:2.0
PRODID:spatie/icalendar-generator
BEGIN:VTIMEZONE
TZID:UTC
BEGIN:STANDARD
DTSTART:20250725T161026
TZOFFSETFROM:+0000
TZOFFSETTO:+0000
END:STANDARD
END:VTIMEZONE
BEGIN:VEVENT
UID:69e7a172554b8
DTSTAMP:20260421T161026Z
SUMMARY:Schamanen Sibiriens - Zwischen den Welten
DTSTART:20261209T090000Z
DTEND:20261209T090000Z
END:VEVENT
END:VCALENDAR