BEGIN:VCALENDAR
VERSION:2.0
PRODID:spatie/icalendar-generator
BEGIN:VTIMEZONE
TZID:UTC
BEGIN:STANDARD
DTSTART:20250725T160936
TZOFFSETFROM:+0000
TZOFFSETTO:+0000
END:STANDARD
END:VTIMEZONE
BEGIN:VEVENT
UID:69e7a1403b6b5
DTSTAMP:20260421T160936Z
SUMMARY:Schamanen Sibiriens - Zwischen den Welten
DTSTART:20261208T090000Z
DTEND:20261208T090000Z
END:VEVENT
END:VCALENDAR