BEGIN:VCALENDAR
VERSION:2.0
PRODID:spatie/icalendar-generator
BEGIN:VTIMEZONE
TZID:UTC
BEGIN:STANDARD
DTSTART:20250725T175924
TZOFFSETFROM:+0000
TZOFFSETTO:+0000
END:STANDARD
END:VTIMEZONE
BEGIN:VEVENT
UID:69e7bafc249bf
DTSTAMP:20260421T175924Z
SUMMARY:Schamanen Sibiriens - Zwischen den Welten
DTSTART:20261206T090000Z
DTEND:20261206T090000Z
END:VEVENT
END:VCALENDAR