BEGIN:VCALENDAR
VERSION:2.0
PRODID:spatie/icalendar-generator
BEGIN:VTIMEZONE
TZID:UTC
BEGIN:STANDARD
DTSTART:20250726T011301
TZOFFSETFROM:+0000
TZOFFSETTO:+0000
END:STANDARD
END:VTIMEZONE
BEGIN:VEVENT
UID:69e8209d9f674
DTSTAMP:20260422T011301Z
SUMMARY:Schamanen Sibiriens - Zwischen den Welten
DTSTART:20261126T090000Z
DTEND:20261126T090000Z
END:VEVENT
END:VCALENDAR