BEGIN:VCALENDAR
VERSION:2.0
PRODID:spatie/icalendar-generator
BEGIN:VTIMEZONE
TZID:UTC
BEGIN:STANDARD
DTSTART:20250726T041530
TZOFFSETFROM:+0000
TZOFFSETTO:+0000
END:STANDARD
END:VTIMEZONE
BEGIN:VEVENT
UID:69e84b629c691
DTSTAMP:20260422T041530Z
SUMMARY:Schamanen Sibiriens - Zwischen den Welten
DTSTART:20261125T090000Z
DTEND:20261125T090000Z
END:VEVENT
END:VCALENDAR