BEGIN:VCALENDAR
VERSION:2.0
PRODID:spatie/icalendar-generator
BEGIN:VTIMEZONE
TZID:UTC
BEGIN:STANDARD
DTSTART:20250726T143801
TZOFFSETFROM:+0000
TZOFFSETTO:+0000
END:STANDARD
END:VTIMEZONE
BEGIN:VEVENT
UID:69e8dd4930eb1
DTSTAMP:20260422T143801Z
SUMMARY:Schamanen Sibiriens - Zwischen den Welten
DTSTART:20261110T090000Z
DTEND:20261110T090000Z
END:VEVENT
END:VCALENDAR