BEGIN:VCALENDAR
VERSION:2.0
PRODID:spatie/icalendar-generator
BEGIN:VTIMEZONE
TZID:UTC
BEGIN:STANDARD
DTSTART:20250726T195719
TZOFFSETFROM:+0000
TZOFFSETTO:+0000
END:STANDARD
END:VTIMEZONE
BEGIN:VEVENT
UID:69e9281fa732c
DTSTAMP:20260422T195719Z
SUMMARY:Schamanen Sibiriens - Zwischen den Welten
DTSTART:20261103T090000Z
DTEND:20261103T090000Z
END:VEVENT
END:VCALENDAR