BEGIN:VCALENDAR
VERSION:2.0
PRODID:spatie/icalendar-generator
BEGIN:VTIMEZONE
TZID:UTC
BEGIN:STANDARD
DTSTART:20250727T050241
TZOFFSETFROM:+0000
TZOFFSETTO:+0000
END:STANDARD
END:VTIMEZONE
BEGIN:VEVENT
UID:69e9a7f128891
DTSTAMP:20260423T050241Z
SUMMARY:Schamanen Sibiriens - Zwischen den Welten
DTSTART:20261022T080000Z
DTEND:20261022T080000Z
END:VEVENT
END:VCALENDAR