BEGIN:VCALENDAR
VERSION:2.0
PRODID:spatie/icalendar-generator
BEGIN:VTIMEZONE
TZID:UTC
BEGIN:STANDARD
DTSTART:20250727T110159
TZOFFSETFROM:+0000
TZOFFSETTO:+0000
END:STANDARD
END:VTIMEZONE
BEGIN:VEVENT
UID:69e9fc270d841
DTSTAMP:20260423T110159Z
SUMMARY:Schamanen Sibiriens - Zwischen den Welten
DTSTART:20261014T080000Z
DTEND:20261014T080000Z
END:VEVENT
END:VCALENDAR