BEGIN:VCALENDAR
VERSION:2.0
PRODID:spatie/icalendar-generator
BEGIN:VTIMEZONE
TZID:UTC
BEGIN:STANDARD
DTSTART:20250727T124204
TZOFFSETFROM:+0000
TZOFFSETTO:+0000
END:STANDARD
END:VTIMEZONE
BEGIN:VEVENT
UID:69ea139c50d1a
DTSTAMP:20260423T124204Z
SUMMARY:Schamanen Sibiriens - Zwischen den Welten
DTSTART:20261011T080000Z
DTEND:20261011T080000Z
END:VEVENT
END:VCALENDAR