BEGIN:VCALENDAR
VERSION:2.0
PRODID:spatie/icalendar-generator
BEGIN:VTIMEZONE
TZID:UTC
BEGIN:STANDARD
DTSTART:20250727T153107
TZOFFSETFROM:+0000
TZOFFSETTO:+0000
END:STANDARD
END:VTIMEZONE
BEGIN:VEVENT
UID:69ea3b3b96092
DTSTAMP:20260423T153107Z
SUMMARY:Schamanen Sibiriens - Zwischen den Welten
DTSTART:20261007T080000Z
DTEND:20261007T080000Z
END:VEVENT
END:VCALENDAR