BEGIN:VCALENDAR
VERSION:2.0
PRODID:spatie/icalendar-generator
BEGIN:VTIMEZONE
TZID:UTC
BEGIN:STANDARD
DTSTART:20250727T195655
TZOFFSETFROM:+0000
TZOFFSETTO:+0000
END:STANDARD
END:VTIMEZONE
BEGIN:VEVENT
UID:69ea79874e9e0
DTSTAMP:20260423T195655Z
SUMMARY:Schamanen Sibiriens - Zwischen den Welten
DTSTART:20260930T080000Z
DTEND:20260930T080000Z
END:VEVENT
END:VCALENDAR