BEGIN:VCALENDAR
VERSION:2.0
PRODID:spatie/icalendar-generator
BEGIN:VTIMEZONE
TZID:UTC
BEGIN:STANDARD
DTSTART:20250728T034145
TZOFFSETFROM:+0000
TZOFFSETTO:+0000
END:STANDARD
END:VTIMEZONE
BEGIN:VEVENT
UID:69eae6795d484
DTSTAMP:20260424T034145Z
SUMMARY:Schamanen Sibiriens - Zwischen den Welten
DTSTART:20260920T080000Z
DTEND:20260920T080000Z
END:VEVENT
END:VCALENDAR