BEGIN:VCALENDAR
VERSION:2.0
PRODID:spatie/icalendar-generator
BEGIN:VTIMEZONE
TZID:UTC
BEGIN:STANDARD
DTSTART:20250726T105659
TZOFFSETFROM:+0000
TZOFFSETTO:+0000
END:STANDARD
END:VTIMEZONE
BEGIN:VEVENT
UID:69e8a97ba0657
DTSTAMP:20260422T105659Z
SUMMARY:MusikWelten
DTSTART:20261205T090000Z
DTEND:20261205T090000Z
END:VEVENT
END:VCALENDAR