BEGIN:VCALENDAR
VERSION:2.0
PRODID:spatie/icalendar-generator
BEGIN:VTIMEZONE
TZID:UTC
BEGIN:STANDARD
DTSTART:20250726T105613
TZOFFSETFROM:+0000
TZOFFSETTO:+0000
END:STANDARD
END:VTIMEZONE
BEGIN:VEVENT
UID:69e8a94dddbe9
DTSTAMP:20260422T105613Z
SUMMARY:MusikWelten
DTSTART:20261104T090000Z
DTEND:20261104T090000Z
END:VEVENT
END:VCALENDAR