BEGIN:VCALENDAR
VERSION:2.0
PRODID:spatie/icalendar-generator
BEGIN:VTIMEZONE
TZID:UTC
BEGIN:STANDARD
DTSTART:20250726T110808
TZOFFSETFROM:+0000
TZOFFSETTO:+0000
END:STANDARD
END:VTIMEZONE
BEGIN:VEVENT
UID:69e8ac18b6107
DTSTAMP:20260422T110808Z
SUMMARY:MusikWelten
DTSTART:20261027T090000Z
DTEND:20261027T090000Z
END:VEVENT
END:VCALENDAR